BEGIN:VCALENDAR
METHOD:PUBLISH
VERSION:2.0
PRODID:-//hacksw/handcal//NONSGML v1.0//EN
BEGIN:VEVENT
DTSTAMP:20260426T130000
DTSTART:20260426T130000
DTEND:20260426T133000
SUMMARY:Inspection
LOCATION:45a Alligator Creek Road Alligator Creek QLD 4816
DESCRIPTION:
UID:76f2ce43-7cc3-491b-ab3d-a3543635621d@enlivenai.com.au
END:VEVENT
END:VCALENDAR
