BEGIN:VCALENDAR
METHOD:PUBLISH
VERSION:2.0
PRODID:-//hacksw/handcal//NONSGML v1.0//EN
BEGIN:VEVENT
DTSTAMP:20260423T130000
DTSTART:20260423T130000
DTEND:20260423T133000
SUMMARY:Inspection
LOCATION:103/166 Flinders Street Melbourne VIC 3000
DESCRIPTION:
UID:3511088f-d8a9-41a3-919e-5a530a8514b6@enlivenai.com.au
END:VEVENT
END:VCALENDAR
