BEGIN:VCALENDAR
METHOD:PUBLISH
VERSION:2.0
PRODID:-//hacksw/handcal//NONSGML v1.0//EN
BEGIN:VEVENT
DTSTAMP:20260428T164500
DTSTART:20260428T164500
DTEND:20260428T170000
SUMMARY:Inspection
LOCATION:6 Kulbardi Way Bennett Springs WA 6063
DESCRIPTION:
UID:5058b6e1-11c6-474a-b8f3-1c7e4532ac71@enlivenai.com.au
END:VEVENT
END:VCALENDAR
