BEGIN:VCALENDAR
METHOD:PUBLISH
VERSION:2.0
PRODID:-//hacksw/handcal//NONSGML v1.0//EN
BEGIN:VEVENT
DTSTAMP:20260422T123000
DTSTART:20260422T123000
DTEND:20260422T124500
SUMMARY:Inspection
LOCATION:2/3 Fairlight Street Manly NSW 2095
DESCRIPTION:
UID:94066996-fc73-4f26-89f3-9c42fe36f671@enlivenai.com.au
END:VEVENT
END:VCALENDAR
