BEGIN:VCALENDAR
METHOD:PUBLISH
VERSION:2.0
PRODID:-//hacksw/handcal//NONSGML v1.0//EN
BEGIN:VEVENT
DTSTAMP:20260509T123000
DTSTART:20260509T123000
DTEND:20260509T130000
SUMMARY:Inspection
LOCATION:193 Denison Street Queens Park NSW 2022
DESCRIPTION:
UID:8b5d4420-0736-4539-b0b2-e8a430b613a8@enlivenai.com.au
END:VEVENT
END:VCALENDAR
