BEGIN:VCALENDAR
METHOD:PUBLISH
VERSION:2.0
PRODID:-//hacksw/handcal//NONSGML v1.0//EN
BEGIN:VEVENT
DTSTAMP:20260507T123000
DTSTART:20260507T123000
DTEND:20260507T130000
SUMMARY:Inspection
LOCATION:193 Denison Street Queens Park NSW 2022
DESCRIPTION:
UID:7bb22a68-6fb2-480a-9a9f-0dea570a5b36@enlivenai.com.au
END:VEVENT
END:VCALENDAR
