BEGIN:VCALENDAR
METHOD:PUBLISH
VERSION:2.0
PRODID:-//hacksw/handcal//NONSGML v1.0//EN
BEGIN:VEVENT
DTSTAMP:20260425T164500
DTSTART:20260425T164500
DTEND:20260425T170000
SUMMARY:Inspection
LOCATION:9/365 Little Bourke Street Melbourne VIC 3000
DESCRIPTION:
UID:420ed201-614b-4349-95f2-6d4c64f33a7b@enlivenai.com.au
END:VEVENT
END:VCALENDAR
