BEGIN:VCALENDAR
METHOD:PUBLISH
VERSION:2.0
PRODID:-//hacksw/handcal//NONSGML v1.0//EN
BEGIN:VEVENT
DTSTAMP:20260513T120000
DTSTART:20260513T120000
DTEND:20260513T123000
SUMMARY:Inspection
LOCATION:6/1 York Street Prahran VIC 3181
DESCRIPTION:
UID:b1f49f85-50c1-48ee-9a25-950831c7720c@enlivenai.com.au
END:VEVENT
END:VCALENDAR
