BEGIN:VCALENDAR
METHOD:PUBLISH
VERSION:2.0
PRODID:-//hacksw/handcal//NONSGML v1.0//EN
BEGIN:VEVENT
DTSTAMP:20260425T153000
DTSTART:20260425T153000
DTEND:20260425T160000
SUMMARY:Inspection
LOCATION:14 Stewart  Street Ermington NSW 2115
DESCRIPTION:
UID:c3c6d445-9545-4384-aafd-2f8d50d5506b@enlivenai.com.au
END:VEVENT
END:VCALENDAR
