BEGIN:VCALENDAR
METHOD:PUBLISH
VERSION:2.0
PRODID:-//hacksw/handcal//NONSGML v1.0//EN
BEGIN:VEVENT
DTSTAMP:20260424T120000
DTSTART:20260424T120000
DTEND:20260424T121500
SUMMARY:Inspection
LOCATION:103/30 Rodd Road Five Dock NSW 2046
DESCRIPTION:
UID:c86dbc94-32ec-4a37-9e70-ea858ec0fdeb@enlivenai.com.au
END:VEVENT
END:VCALENDAR
