BEGIN:VCALENDAR
METHOD:PUBLISH
VERSION:2.0
PRODID:-//hacksw/handcal//NONSGML v1.0//EN
BEGIN:VEVENT
DTSTAMP:20260426T124500
DTSTART:20260426T124500
DTEND:20260426T131500
SUMMARY:Inspection
LOCATION:79 Lady Musgrave Circuit Burdell QLD 4818
DESCRIPTION:
UID:c153f4c3-907f-48bf-9283-48b4ba4681f2@enlivenai.com.au
END:VEVENT
END:VCALENDAR
