BEGIN:VCALENDAR
METHOD:PUBLISH
VERSION:2.0
PRODID:-//hacksw/handcal//NONSGML v1.0//EN
BEGIN:VEVENT
DTSTAMP:20260425T150000
DTSTART:20260425T150000
DTEND:20260425T153000
SUMMARY:Inspection
LOCATION:2/37 Waverley Road Malvern East VIC 3145
DESCRIPTION:
UID:a692612f-0b73-4b00-8dcd-56c48e51e63a@enlivenai.com.au
END:VEVENT
END:VCALENDAR
