BEGIN:VCALENDAR
METHOD:PUBLISH
VERSION:2.0
PRODID:-//hacksw/handcal//NONSGML v1.0//EN
BEGIN:VEVENT
DTSTAMP:20260425T144000
DTSTART:20260425T144000
DTEND:20260425T150000
SUMMARY:Inspection
LOCATION:43/96-98 Johnston Street Annandale NSW 2038
DESCRIPTION:
UID:5de7ce73-91e1-470d-89c9-f917166e53c2@enlivenai.com.au
END:VEVENT
END:VCALENDAR
