BEGIN:VCALENDAR
METHOD:PUBLISH
VERSION:2.0
PRODID:-//hacksw/handcal//NONSGML v1.0//EN
BEGIN:VEVENT
DTSTAMP:20260422T120000
DTSTART:20260422T120000
DTEND:20260422T122000
SUMMARY:Inspection
LOCATION:43/96-98 Johnston Street Annandale NSW 2038
DESCRIPTION:
UID:044719e9-3845-48b0-b8c3-f1651a96fe5e@enlivenai.com.au
END:VEVENT
END:VCALENDAR
