BEGIN:VCALENDAR
METHOD:PUBLISH
VERSION:2.0
PRODID:-//hacksw/handcal//NONSGML v1.0//EN
BEGIN:VEVENT
DTSTAMP:20260425T154500
DTSTART:20260425T154500
DTEND:20260425T161500
SUMMARY:Inspection
LOCATION:20A Caroline Drive Fulham Gardens SA 5024
DESCRIPTION:
UID:80cc4bfe-d2c8-40ce-997b-230d336f9fd3@enlivenai.com.au
END:VEVENT
END:VCALENDAR
