BEGIN:VCALENDAR
METHOD:PUBLISH
VERSION:2.0
PRODID:-//hacksw/handcal//NONSGML v1.0//EN
BEGIN:VEVENT
DTSTAMP:20260425T131500
DTSTART:20260425T131500
DTEND:20260425T134500
SUMMARY:Inspection
LOCATION:69 Dugdale Street Cook ACT 2614
DESCRIPTION:
UID:ff95778d-bea9-450f-8e87-6fa75dc40bc1@enlivenai.com.au
END:VEVENT
END:VCALENDAR
