BEGIN:VCALENDAR
METHOD:PUBLISH
VERSION:2.0
PRODID:-//hacksw/handcal//NONSGML v1.0//EN
BEGIN:VEVENT
DTSTAMP:20260426T090000
DTSTART:20260426T090000
DTEND:20260426T092500
SUMMARY:Inspection
LOCATION:14/97 Oaks Avenue Dee Why NSW 2099
DESCRIPTION:
UID:32830679-de39-485b-b852-dd118439a3a4@enlivenai.com.au
END:VEVENT
END:VCALENDAR
