BEGIN:VCALENDAR
METHOD:PUBLISH
VERSION:2.0
PRODID:-//hacksw/handcal//NONSGML v1.0//EN
BEGIN:VEVENT
DTSTAMP:20260427T120000
DTSTART:20260427T120000
DTEND:20260427T123000
SUMMARY:Inspection
LOCATION:92 Gladstone Road Highgate Hill QLD 4101
DESCRIPTION:
UID:4f507870-1ef4-4248-908e-0deb7933a4cc@enlivenai.com.au
END:VEVENT
END:VCALENDAR
