BEGIN:VCALENDAR
METHOD:PUBLISH
VERSION:2.0
PRODID:-//hacksw/handcal//NONSGML v1.0//EN
BEGIN:VEVENT
DTSTAMP:20260502T134500
DTSTART:20260502T134500
DTEND:20260502T141500
SUMMARY:Inspection
LOCATION:12/166 - 176 Oberon Street Coogee NSW 2034
DESCRIPTION:
UID:d940a70b-0655-4f98-920f-8bc89813fd7e@enlivenai.com.au
END:VEVENT
END:VCALENDAR
