BEGIN:VCALENDAR
METHOD:PUBLISH
VERSION:2.0
PRODID:-//hacksw/handcal//NONSGML v1.0//EN
BEGIN:VEVENT
DTSTAMP:20260430T134500
DTSTART:20260430T134500
DTEND:20260430T141500
SUMMARY:Inspection
LOCATION:12/166 - 176 Oberon Street Coogee NSW 2034
DESCRIPTION:
UID:170671d0-4e15-4023-8b31-812d70566689@enlivenai.com.au
END:VEVENT
END:VCALENDAR
