BEGIN:VCALENDAR
METHOD:PUBLISH
VERSION:2.0
PRODID:-//hacksw/handcal//NONSGML v1.0//EN
BEGIN:VEVENT
DTSTAMP:20260509T134500
DTSTART:20260509T134500
DTEND:20260509T141500
SUMMARY:Inspection
LOCATION:25/45 Trafalgar Street Annandale NSW 2038
DESCRIPTION:
UID:1b57d901-1811-4fc3-83b8-3676150ffd18@enlivenai.com.au
END:VEVENT
END:VCALENDAR
