BEGIN:VCALENDAR
METHOD:PUBLISH
VERSION:2.0
PRODID:-//hacksw/handcal//NONSGML v1.0//EN
BEGIN:VEVENT
DTSTAMP:20260505T170000
DTSTART:20260505T170000
DTEND:20260505T173000
SUMMARY:Inspection
LOCATION:25/45 Trafalgar Street Annandale NSW 2038
DESCRIPTION:
UID:5f15e269-f172-40d3-9922-d41c6404a704@enlivenai.com.au
END:VEVENT
END:VCALENDAR
