BEGIN:VCALENDAR
METHOD:PUBLISH
VERSION:2.0
PRODID:-//hacksw/handcal//NONSGML v1.0//EN
BEGIN:VEVENT
DTSTAMP:20260422T171500
DTSTART:20260422T171500
DTEND:20260422T173000
SUMMARY:Inspection
LOCATION:303/14 Hilly  Street Mortlake NSW 2137
DESCRIPTION:
UID:b3ad7369-0204-483f-a1c7-d99d4e59c880@enlivenai.com.au
END:VEVENT
END:VCALENDAR
