BEGIN:VCALENDAR
METHOD:PUBLISH
VERSION:2.0
PRODID:-//hacksw/handcal//NONSGML v1.0//EN
BEGIN:VEVENT
DTSTAMP:20260428T163000
DTSTART:20260428T163000
DTEND:20260428T164500
SUMMARY:Inspection
LOCATION:17 Payten Street Kogarah Bay NSW 2217
DESCRIPTION:
UID:397d51a3-0fdc-4607-83da-eb456772f592@enlivenai.com.au
END:VEVENT
END:VCALENDAR
