BEGIN:VCALENDAR
METHOD:PUBLISH
VERSION:2.0
PRODID:-//hacksw/handcal//NONSGML v1.0//EN
BEGIN:VEVENT
DTSTAMP:20260425T160000
DTSTART:20260425T160000
DTEND:20260425T164500
SUMMARY:Inspection
LOCATION:24 Jarrah Elbow Vasse WA 6280
DESCRIPTION:
UID:9fbd796c-d963-43e3-9163-d02a22877a89@enlivenai.com.au
END:VEVENT
END:VCALENDAR
