BEGIN:VCALENDAR
METHOD:PUBLISH
VERSION:2.0
PRODID:-//hacksw/handcal//NONSGML v1.0//EN
BEGIN:VEVENT
DTSTAMP:20260427T163000
DTSTART:20260427T163000
DTEND:20260427T164500
SUMMARY:Inspection
LOCATION:10/270 Ocean  Drive Twin Waters QLD 4564
DESCRIPTION:
UID:85267cdc-d5e0-43ab-84d6-f2e7748ef04d@enlivenai.com.au
END:VEVENT
END:VCALENDAR
