BEGIN:VCALENDAR
METHOD:PUBLISH
VERSION:2.0
PRODID:-//hacksw/handcal//NONSGML v1.0//EN
BEGIN:VEVENT
DTSTAMP:20260424T163000
DTSTART:20260424T163000
DTEND:20260424T170000
SUMMARY:Inspection
LOCATION:40 Sugarloaf Street Wavell Heights QLD 4012
DESCRIPTION:
UID:20d48a77-bef1-4bc7-891b-48bf981bf23e@enlivenai.com.au
END:VEVENT
END:VCALENDAR
