BEGIN:VCALENDAR
METHOD:PUBLISH
VERSION:2.0
PRODID:-//hacksw/handcal//NONSGML v1.0//EN
BEGIN:VEVENT
DTSTAMP:20260520T180000
DTSTART:20260520T180000
DTEND:20260520T180000
SUMMARY:Auction
LOCATION:25 Park Road St Leonards NSW 2065
DESCRIPTION:
UID:f9d1dc6f-6d3f-40c0-ab3e-03a85931b1bd@enlivenai.com.au
END:VEVENT
END:VCALENDAR
