BEGIN:VCALENDAR
METHOD:PUBLISH
VERSION:2.0
PRODID:-//hacksw/handcal//NONSGML v1.0//EN
BEGIN:VEVENT
DTSTAMP:20260522T093000
DTSTART:20260522T093000
DTEND:20260522T093000
SUMMARY:Auction
LOCATION:5 Ocean Street Torquay QLD 4655
DESCRIPTION:
UID:f93ecec2-14b2-4ac3-86fe-a70ff821c0eb@enlivenai.com.au
END:VEVENT
END:VCALENDAR
