BEGIN:VCALENDAR
METHOD:PUBLISH
VERSION:2.0
PRODID:-//hacksw/handcal//NONSGML v1.0//EN
BEGIN:VEVENT
DTSTAMP:20260516T140000
DTSTART:20260516T140000
DTEND:20260516T140000
SUMMARY:Auction
LOCATION:10 Watson Avenue Dromana VIC 3936
DESCRIPTION:
UID:7493af25-d4dd-4ec0-8a60-6be2dd9a30f7@enlivenai.com.au
END:VEVENT
END:VCALENDAR
