BEGIN:VCALENDAR
METHOD:PUBLISH
VERSION:2.0
PRODID:-//hacksw/handcal//NONSGML v1.0//EN
BEGIN:VEVENT
DTSTAMP:20260523T090000
DTSTART:20260523T090000
DTEND:20260523T090000
SUMMARY:Auction
LOCATION:10/13-15 Langlee Avenue  Avenue Waverley NSW 2024
DESCRIPTION:
UID:95c6779f-d009-4757-8f39-f520923d537f@enlivenai.com.au
END:VEVENT
END:VCALENDAR
