BEGIN:VCALENDAR
METHOD:PUBLISH
VERSION:2.0
PRODID:-//hacksw/handcal//NONSGML v1.0//EN
BEGIN:VEVENT
DTSTAMP:20260516T143000
DTSTART:20260516T143000
DTEND:20260516T143000
SUMMARY:Auction
LOCATION:505/2 Regent Street Petersham NSW 2049
DESCRIPTION:
UID:ab07adfb-f13f-4b23-8299-a63eb30ff1d6@enlivenai.com.au
END:VEVENT
END:VCALENDAR
