BEGIN:VCALENDAR
METHOD:PUBLISH
VERSION:2.0
PRODID:-//hacksw/handcal//NONSGML v1.0//EN
BEGIN:VEVENT
DTSTAMP:20260523T140000
DTSTART:20260523T140000
DTEND:20260523T140000
SUMMARY:Auction
LOCATION:28 Ninth  Avenue Rosebud VIC 3939
DESCRIPTION:
UID:ee0d3c0a-b7c6-4d13-849d-b8c39a25b517@enlivenai.com.au
END:VEVENT
END:VCALENDAR
