BEGIN:VCALENDAR
METHOD:PUBLISH
VERSION:2.0
PRODID:-//hacksw/handcal//NONSGML v1.0//EN
BEGIN:VEVENT
DTSTAMP:20260509T173000
DTSTART:20260509T173000
DTEND:20260509T173000
SUMMARY:Auction
LOCATION:161 Queen  Street Concord West NSW 2138
DESCRIPTION:
UID:cb34d497-332d-4a3f-91c5-4c0dd6a78f5f@enlivenai.com.au
END:VEVENT
END:VCALENDAR
