BEGIN:VCALENDAR
METHOD:PUBLISH
VERSION:2.0
PRODID:-//hacksw/handcal//NONSGML v1.0//EN
BEGIN:VEVENT
DTSTAMP:20260513T180000
DTSTART:20260513T180000
DTEND:20260513T180000
SUMMARY:Auction
LOCATION:3 Mary Street Longueville NSW 2066
DESCRIPTION:
UID:8dfe5789-bf2e-4b41-b865-140c14b32f53@enlivenai.com.au
END:VEVENT
END:VCALENDAR
