BEGIN:VCALENDAR
METHOD:PUBLISH
VERSION:2.0
PRODID:-//hacksw/handcal//NONSGML v1.0//EN
BEGIN:VEVENT
DTSTAMP:20260523T094500
DTSTART:20260523T094500
DTEND:20260523T094500
SUMMARY:Auction
LOCATION:11 Garling Street Lane Cove NSW 2066
DESCRIPTION:
UID:82b37742-c66f-40b8-814e-470a74b8a629@enlivenai.com.au
END:VEVENT
END:VCALENDAR
