BEGIN:VCALENDAR
METHOD:PUBLISH
VERSION:2.0
PRODID:-//hacksw/handcal//NONSGML v1.0//EN
BEGIN:VEVENT
DTSTAMP:20260516T110000
DTSTART:20260516T110000
DTEND:20260516T110000
SUMMARY:Auction
LOCATION:17 Moorland  Street Moorooka QLD 4105
DESCRIPTION:
UID:403935ef-f8fd-4958-9c6a-44abb226a040@enlivenai.com.au
END:VEVENT
END:VCALENDAR
