BEGIN:VCALENDAR
METHOD:PUBLISH
VERSION:2.0
PRODID:-//hacksw/handcal//NONSGML v1.0//EN
BEGIN:VEVENT
DTSTAMP:20260521T180000
DTSTART:20260521T180000
DTEND:20260521T180000
SUMMARY:Auction
LOCATION:802/18 Harrow Road Auburn NSW 2144
DESCRIPTION:
UID:ead8af66-8bac-4aa3-b3e2-27cc89151131@enlivenai.com.au
END:VEVENT
END:VCALENDAR
