BEGIN:VCALENDAR
METHOD:PUBLISH
VERSION:2.0
PRODID:-//hacksw/handcal//NONSGML v1.0//EN
BEGIN:VEVENT
DTSTAMP:20260516T103000
DTSTART:20260516T103000
DTEND:20260516T103000
SUMMARY:Auction
LOCATION:82 Lewisham Road North Prahran VIC 3181
DESCRIPTION:
UID:35c7b58f-6cbc-4284-956b-f51109d08d65@enlivenai.com.au
END:VEVENT
END:VCALENDAR
