BEGIN:VCALENDAR
METHOD:PUBLISH
VERSION:2.0
PRODID:-//hacksw/handcal//NONSGML v1.0//EN
BEGIN:VEVENT
DTSTAMP:20260523T130000
DTSTART:20260523T130000
DTEND:20260523T130000
SUMMARY:Auction
LOCATION:22 Robinson Street Croydon NSW 2132
DESCRIPTION:
UID:1c995df0-34c0-412a-9aa2-98b32c1118c6@enlivenai.com.au
END:VEVENT
END:VCALENDAR
