BEGIN:VCALENDAR
METHOD:PUBLISH
VERSION:2.0
PRODID:-//hacksw/handcal//NONSGML v1.0//EN
BEGIN:VEVENT
DTSTAMP:20260523T100000
DTSTART:20260523T100000
DTEND:20260523T100000
SUMMARY:Auction
LOCATION:1 & 2/70 Evescourt Road New Lambton NSW 2305
DESCRIPTION:
UID:73107545-5a6c-4cdd-9711-4bf9d6d31c25@enlivenai.com.au
END:VEVENT
END:VCALENDAR
