BEGIN:VCALENDAR
METHOD:PUBLISH
VERSION:2.0
PRODID:-//hacksw/handcal//NONSGML v1.0//EN
BEGIN:VEVENT
DTSTAMP:20260711T113000
DTSTART:20260711T113000
DTEND:20260711T113000
SUMMARY:Auction
LOCATION:4/321 Dandenong Road Prahran VIC 3181
DESCRIPTION:
UID:56b3b6eb-6ceb-45d7-a03d-341c3d8f2fc5@enlivenai.com.au
END:VEVENT
END:VCALENDAR
