BEGIN:VCALENDAR
METHOD:PUBLISH
VERSION:2.0
PRODID:-//hacksw/handcal//NONSGML v1.0//EN
BEGIN:VEVENT
DTSTAMP:20260509T133000
DTSTART:20260509T133000
DTEND:20260509T133000
SUMMARY:Auction
LOCATION:14 Glen Rovala Street Brahma Lodge SA 5109
DESCRIPTION:
UID:aedfb66e-75e3-47a6-b025-b0fc711dcdad@enlivenai.com.au
END:VEVENT
END:VCALENDAR
