BEGIN:VCALENDAR
METHOD:PUBLISH
VERSION:2.0
PRODID:-//hacksw/handcal//NONSGML v1.0//EN
BEGIN:VEVENT
DTSTAMP:20260606T110000
DTSTART:20260606T110000
DTEND:20260606T110000
SUMMARY:Auction
LOCATION:43 Hope Street Rosebud VIC 3939
DESCRIPTION:
UID:c52940c3-ce2e-499f-bd6c-2b4f2a896151@enlivenai.com.au
END:VEVENT
END:VCALENDAR
