BEGIN:VCALENDAR
METHOD:PUBLISH
VERSION:2.0
PRODID:-//hacksw/handcal//NONSGML v1.0//EN
BEGIN:VEVENT
DTSTAMP:20260507T180000
DTSTART:20260507T180000
DTEND:20260507T180000
SUMMARY:Auction
LOCATION:14/63-67 Pavilion Street Queenscliff NSW 2096
DESCRIPTION:
UID:4ede7bac-8932-45cc-bdcf-6950cb81beb0@enlivenai.com.au
END:VEVENT
END:VCALENDAR
