BEGIN:VCALENDAR
METHOD:PUBLISH
VERSION:2.0
PRODID:-//hacksw/handcal//NONSGML v1.0//EN
BEGIN:VEVENT
DTSTAMP:20260402T180000
DTSTART:20260402T180000
DTEND:20260402T180000
SUMMARY:Auction
LOCATION:22 Walker Avenue Narrabeen NSW 2101
DESCRIPTION:
UID:484fadda-8a4d-4a50-9d60-2e8aebc1835f@enlivenai.com.au
END:VEVENT
END:VCALENDAR
