BEGIN:VCALENDAR
METHOD:PUBLISH
VERSION:2.0
PRODID:-//hacksw/handcal//NONSGML v1.0//EN
BEGIN:VEVENT
DTSTAMP:20260516T150000
DTSTART:20260516T150000
DTEND:20260516T150000
SUMMARY:Auction
LOCATION:49/3 Wulumay Close Rozelle NSW 2039
DESCRIPTION:
UID:1b80ed8c-e1ba-4947-af3e-3cf1e036aa86@enlivenai.com.au
END:VEVENT
END:VCALENDAR
