BEGIN:VCALENDAR
METHOD:PUBLISH
VERSION:2.0
PRODID:-//hacksw/handcal//NONSGML v1.0//EN
BEGIN:VEVENT
DTSTAMP:20260430T180000
DTSTART:20260430T180000
DTEND:20260430T180000
SUMMARY:Auction
LOCATION:7a Iluka Avenue Manly NSW 2095
DESCRIPTION:
UID:7a82f593-4611-4958-b37c-02887d0eeafb@enlivenai.com.au
END:VEVENT
END:VCALENDAR
