BEGIN:VCALENDAR
METHOD:PUBLISH
VERSION:2.0
PRODID:-//hacksw/handcal//NONSGML v1.0//EN
BEGIN:VEVENT
DTSTAMP:20260509T120000
DTSTART:20260509T120000
DTEND:20260509T120000
SUMMARY:Auction
LOCATION:26 Mill Road Buderim QLD 4556
DESCRIPTION:
UID:7ed216fe-175a-41f8-8dbf-f632e2ed9439@enlivenai.com.au
END:VEVENT
END:VCALENDAR
