BEGIN:VCALENDAR
METHOD:PUBLISH
VERSION:2.0
PRODID:-//hacksw/handcal//NONSGML v1.0//EN
BEGIN:VEVENT
DTSTAMP:20260516T113000
DTSTART:20260516T113000
DTEND:20260516T113000
SUMMARY:Auction
LOCATION:28/20 St Edmonds Road Prahran VIC 3181
DESCRIPTION:
UID:395e3ece-eabb-4d4e-9274-bb1f1445b9a4@enlivenai.com.au
END:VEVENT
END:VCALENDAR
